Workbook
Name IQ_CH: 110000
Name IQ_CQ: 5000
Name IQ_CY: 10000
Name IQ_DAILY: 500000
Name IQ_FH: 100000
Name IQ_FQ: 500
Name IQ_FY: 1000
Name IQ_LTM: 2000
Name IQ_MONTH: 15000
Name IQ_NTM: 6000
Name IQ_WEEK: 50000
Name IQ_YTD: 3000

Sheet Gráficos (2)
B22: RENTABILIDADES (%) | I22: RENTABILIDADES (%) | P22: RENTABILIDADES (%) | W22: RENTABILIDADES (%)
B23: FARO CAPITAL DEUDA GLOBAL FMIV | F23: FONDO DE FONDOS FARO CAPITAL DEUDA GLOBAL FMIV | I23: FARO CAPITAL RENTA VARIABLE GLOBAL FMIV | M23: FONDO DE FONDOS FARO CAPITAL RENTA VARIABLE GLOBAL FMIV | P23: FARO CAPITAL GLOBAL INNOVATION FMIV | T23: FONDO DE FONDOS FARO CAPITAL GLOBAL INNOVATION FMIV | W23: FARO CAPITAL CORTO PLAZO DOLARES FMIV
C25: 2 | D25: 3 | E25: 4 | F25: 15 | J25: 5 | K25: 6 | L25: 7 | M25: 16 | Q25: 8 | R25: 9 | S25: 10 | T25: 14 | X25: 11 | Y25: 11 | Z25: 12
C26: Serie A | D26: Serie B | E26: Serie C | F26: Serie Retail | J26: Serie A | K26: Serie B | L26: Serie C | M26: Serie Retail | Q26: Serie A | R26: Serie B | S26: Serie C | T26: Serie Retail | Y26: Serie A | Z26: Serie B
A27: =+EOMONTH(MAX('Valores Cuota Diarios'!B:B),-1) -> 46022 | B27: =+$A$27 -> 46022 | C27: =+(VLOOKUP($A27,'Valores Cuota Diarios'!$B:$Q,'Gráficos (2)'!C$25,0)/VLOOKUP($A28,'Valores Cuota Diarios'!$B:$Q,'Gráficos (2)'!C$25,0))-1 -> 0.090082333 | D27: =+(VLOOKUP($A27,'Valores Cuota Diarios'!$B:$Q,'Gráficos (2)'!D$25,0)/VLOOKUP($A28,'Valores Cuota Diarios'!$B:$Q,'Gráficos (2)'!D$25,0))-1 -> 0.089430427 | E27: =+(VLOOKUP($A27,'Valores Cuota Diarios'!$B:$Q,'Gráficos (2)'!E$25,0)/VLOOKUP($A28,'Valores Cuota Diarios'!$B:$Q,'Gráficos (2)'!E$25,0))-1 -> 0.088778909 | F27: =+(VLOOKUP($A27,'Valores Cuota Diarios'!$B:$Q,'Gráficos (2)'!F$25,0)/VLOOKUP($A28,'Valores Cuota Diarios'!$B:$Q,'Gráficos (2)'!F$25,0))-1 -> 0.085912742 | I27: =+$A$27 -> 46022 | J27: =+(VLOOKUP($A27,'Valores Cuota Diarios'!$B:$Q,'Gráficos (2)'!J$25,0)/VLOOKUP($A28,'Valores Cuota Diarios'!$B:$Q,'Gráficos (2)'!J$25,0))-1 -> 0.15842129 | K27: =+(VLOOKUP($A27,'Valores Cuota Diarios'!$B:$Q,'Gráficos (2)'!K$25,0)/VLOOKUP($A28,'Valores Cuota Diarios'!$B:$Q,'Gráficos (2)'!K$25,0))-1 -> 0.15565266 | L27: =+(VLOOKUP($A27,'Valores Cuota Diarios'!$B:$Q,'Gráficos (2)'!L$25,0)/VLOOKUP($A28,'Valores Cuota Diarios'!$B:$Q,'Gráficos (2)'!L$25,0))-1 -> 0.15289062 | M27: =+(VLOOKUP($A27,'Valores Cuota Diarios'!$B:$Q,'Gráficos (2)'!M$25,0)/VLOOKUP($A28,'Valores Cuota Diarios'!$B:$Q,'Gráficos (2)'!M$25,0))-1 -> 0.14908938 | P27: =+$A$27 -> 46022 | Q27: =-(1) -> -1 | R27: =+(VLOOKUP($A27,'Valores Cuota Diarios'!$B:$Q,'Gráficos (2)'!R$25,0)/VLOOKUP($A28,'Valores Cuota Diarios'!$B:$Q,'Gráficos (2)'!R$25,0))-1 -> -1 | S27: =+(VLOOKUP($A27,'Valores Cuota Diarios'!$B:$Q,'Gráficos (2)'!S$25,0)/VLOOKUP($A28,'Valores Cuota Diarios'!$B:$Q,'Gráficos (2)'!S$25,0))-1 -> -1 | T27: =+(VLOOKUP($A27,'Valores Cuota Diarios'!$B:$Q,'Gráficos (2)'!T$25,0)/VLOOKUP($A28,'Valores Cuota Diarios'!$B:$Q,'Gráficos (2)'!T$25,0))-1 -> -1 | W27: =+$A$27 -> 46022 | Y27: - | Z27: =+(VLOOKUP($A27,'Valores Cuota Diarios'!$B:$Q,'Gráficos (2)'!Z$25,0)/VLOOKUP($A28,'Valores Cuota Diarios'!$B:$Q,'Gráficos (2)'!Z$25,0))-1 -> 0.038225898
A28: 45657 | B28: 2024 | C28: =+((1+(VLOOKUP($A28,'Valores Cuota Diarios'!$B:$Q,'Gráficos (2)'!C$25,0)/VLOOKUP($A29,'Valores Cuota Diarios'!$B:$Q,'Gráficos (2)'!C$25,0))-1)^(360/366))-1 -> 0.023200086 | D28: =+((1+(VLOOKUP($A28,'Valores Cuota Diarios'!$B:$Q,'Gráficos (2)'!D$25,0)/VLOOKUP($A29,'Valores Cuota Diarios'!$B:$Q,'Gráficos (2)'!D$25,0))-1)^(360/366))-1 -> 0.022037872 | E28: =+((1+(VLOOKUP($A28,'Valores Cuota Diarios'!$B:$Q,'Gráficos (2)'!E$25,0)/VLOOKUP($A29,'Valores Cuota Diarios'!$B:$Q,'Gráficos (2)'!E$25,0))-1)^(360/366))-1 -> 0.020876975 | F28: =+((1+(VLOOKUP($A28,'Valores Cuota Diarios'!$B:$Q,'Gráficos (2)'!F$25,0)/VLOOKUP($A29,'Valores Cuota Diarios'!$B:$Q,'Gráficos (2)'!F$25,0))-1)^(360/366))-1 -> 0.018151735 | I28: 2024 | J28: =+((1+(VLOOKUP($A28,'Valores Cuota Diarios'!$B:$Q,'Gráficos (2)'!J$25,0)/VLOOKUP($A29,'Valores Cuota Diarios'!$B:$Q,'Gráficos (2)'!J$25,0))-1)^(360/366))-1 -> 0.12760569 | K28: =+((1+(VLOOKUP($A28,'Valores Cuota Diarios'!$B:$Q,'Gráficos (2)'!K$25,0)/VLOOKUP($A29,'Valores Cuota Diarios'!$B:$Q,'Gráficos (2)'!K$25,0))-1)^(360/366))-1 -> 0.1249476 | L28: =+((1+(VLOOKUP($A28,'Valores Cuota Diarios'!$B:$Q,'Gráficos (2)'!L$25,0)/VLOOKUP($A29,'Valores Cuota Diarios'!$B:$Q,'Gráficos (2)'!L$25,0))-1)^(360/366))-1 -> 0.11984511 | M28: =+((1+(VLOOKUP($A28,'Valores Cuota Diarios'!$B:$Q,'Gráficos (2)'!M$25,0)/VLOOKUP($A29,'Valores Cuota Diarios'!$B:$Q,'Gráficos (2)'!M$25,0))-1)^(360/366))-1 -> 0.11700977 | P28: 2024 | Q28: =-(1) -> -1 | R28: =+((1+(VLOOKUP($A28,'Valores Cuota Diarios'!$B:$Q,'Gráficos (2)'!R$25,0)/VLOOKUP($A29,'Valores Cuota Diarios'!$B:$Q,'Gráficos (2)'!R$25,0))-1)^(360/366))-1 -> 0.090677291 | S28: =+((1+(VLOOKUP($A28,'Valores Cuota Diarios'!$B:$Q,'Gráficos (2)'!S$25,0)/VLOOKUP($A29,'Valores Cuota Diarios'!$B:$Q,'Gráficos (2)'!S$25,0))-1)^(360/366))-1 -> 0.088106218 | T28: =+((1+(VLOOKUP($A28,'Valores Cuota Diarios'!$B:$Q,'Gráficos (2)'!T$25,0)/VLOOKUP($A29,'Valores Cuota Diarios'!$B:$Q,'Gráficos (2)'!T$25,0))-1)^(360/366))-1 -> 0.084146515 | W28: 2024 | Y28: =+((1+(VLOOKUP($A28,'Valores Cuota Diarios'!$B:$Q,'Gráficos (2)'!Y$25,0)/VLOOKUP($A29,'Valores Cuota Diarios'!$B:$Q,'Gráficos (2)'!Y$25,0))-1)^(360/366))-1 -> 0.046974148 | Z28: =+((1+(VLOOKUP($A28,'Valores Cuota Diarios'!$B:$Q,'Gráficos (2)'!Z$25,0)/VLOOKUP($A29,'Valores Cuota Diarios'!$B:$Q,'Gráficos (2)'!Z$25,0))-1)^(360/366))-1 -> 0.046005787
A29: 45291 | B29: 2023 | C29: =+((1+(VLOOKUP($A29,'Valores Cuota Diarios'!$B:$Q,'Gráficos (2)'!C$25,0)/VLOOKUP($A30,'Valores Cuota Diarios'!$B:$Q,'Gráficos (2)'!C$25,0))-1)^(360/365))-1 -> 0.044744932 | D29: =+((1+(VLOOKUP($A29,'Valores Cuota Diarios'!$B:$Q,'Gráficos (2)'!D$25,0)/VLOOKUP($A30,'Valores Cuota Diarios'!$B:$Q,'Gráficos (2)'!D$25,0))-1)^(360/365))-1 -> 0.043512826 | E29: =+((1+(VLOOKUP($A29,'Valores Cuota Diarios'!$B:$Q,'Gráficos (2)'!E$25,0)/VLOOKUP($A30,'Valores Cuota Diarios'!$B:$Q,'Gráficos (2)'!E$25,0))-1)^(360/365))-1 -> 0.042282169 | F29: =+((1+(VLOOKUP($A29,'Valores Cuota Diarios'!$B:$Q,'Gráficos (2)'!F$25,0)/VLOOKUP($A30,'Valores Cuota Diarios'!$B:$Q,'Gráficos (2)'!F$25,0))-1)^(360/365))-1 -> 0.037303838 | I29: 2023 | J29: =+((1+(VLOOKUP($A29,'Valores Cuota Diarios'!$B:$Q,'Gráficos (2)'!J$25,0)/VLOOKUP($A30,'Valores Cuota Diarios'!$B:$Q,'Gráficos (2)'!J$25,0))-1)^(360/365))-1 -> 0.1724418 | K29: =+((1+(VLOOKUP($A29,'Valores Cuota Diarios'!$B:$Q,'Gráficos (2)'!K$25,0)/VLOOKUP($A30,'Valores Cuota Diarios'!$B:$Q,'Gráficos (2)'!K$25,0))-1)^(360/365))-1 -> 0.16967801 | L29: =+((1+(VLOOKUP($A29,'Valores Cuota Diarios'!$B:$Q,'Gráficos (2)'!L$25,0)/VLOOKUP($A30,'Valores Cuota Diarios'!$B:$Q,'Gráficos (2)'!L$25,0))-1)^(360/365))-1 -> 0.16416993 | M29: =+((1+(VLOOKUP($A29,'Valores Cuota Diarios'!$B:$Q,'Gráficos (2)'!M$25,0)/VLOOKUP($A30,'Valores Cuota Diarios'!$B:$Q,'Gráficos (2)'!M$25,0))-1)^(360/365))-1 -> 0.16169704 | P29: 2023 | Q29: =+((1+(VLOOKUP($A29,'Valores Cuota Diarios'!$B:$Q,'Gráficos (2)'!Q$25,0)/VLOOKUP($A30,'Valores Cuota Diarios'!$B:$Q,'Gráficos (2)'!Q$25,0))-1)^(360/365))-1 -> 0.23141812 | R29: =+((1+(VLOOKUP($A29,'Valores Cuota Diarios'!$B:$Q,'Gráficos (2)'!R$25,0)/VLOOKUP($A30,'Valores Cuota Diarios'!$B:$Q,'Gráficos (2)'!R$25,0))-1)^(360/365))-1 -> 0.22851529 | S29: =+((1+(VLOOKUP($A29,'Valores Cuota Diarios'!$B:$Q,'Gráficos (2)'!S$25,0)/VLOOKUP($A30,'Valores Cuota Diarios'!$B:$Q,'Gráficos (2)'!S$25,0))-1)^(360/365))-1 -> 0.22561929 | T29: =+((1+(VLOOKUP($A29,'Valores Cuota Diarios'!$B:$Q,'Gráficos (2)'!T$25,0)/VLOOKUP($A30,'Valores Cuota Diarios'!$B:$Q,'Gráficos (2)'!T$25,0))-1)^(360/365))-1 -> 0.22048056 | W29: 2023 | Y29: - | Z29: =+((1+(VLOOKUP($A29,'Valores Cuota Diarios'!$B:$Q,'Gráficos (2)'!Z$25,0)/VLOOKUP($A30,'Valores Cuota Diarios'!$B:$Q,'Gráficos (2)'!Z$25,0))-1)^(360/365)-1) -> 0.044759696
A30: 44926 | B30: 2022 | C30: =+((1+(VLOOKUP($A30,'Valores Cuota Diarios'!$B:$Q,'Gráficos (2)'!C$25,0)/VLOOKUP($A31,'Valores Cuota Diarios'!$B:$Q,'Gráficos (2)'!C$25,0))-1)^(360/365))-1 -> -0.1173516 | D30: =+((1+(VLOOKUP($A30,'Valores Cuota Diarios'!$B:$Q,'Gráficos (2)'!D$25,0)/VLOOKUP($A31,'Valores Cuota Diarios'!$B:$Q,'Gráficos (2)'!D$25,0))-1)^(360/365))-1 -> -0.11839253 | E30: =+((1+(VLOOKUP($A30,'Valores Cuota Diarios'!$B:$Q,'Gráficos (2)'!E$25,0)/VLOOKUP($A31,'Valores Cuota Diarios'!$B:$Q,'Gráficos (2)'!E$25,0))-1)^(360/365))-1 -> -0.11943102 | F30: =+((1+(VLOOKUP($A30,'Valores Cuota Diarios'!$B:$Q,'Gráficos (2)'!F$25,0)/VLOOKUP($A31,'Valores Cuota Diarios'!$B:$Q,'Gráficos (2)'!F$25,0))-1)^(360/365))-1 -> -0.12373214 | I30: 2022 | J30: =+((1+(VLOOKUP($A30,'Valores Cuota Diarios'!$B:$Q,'Gráficos (2)'!J$25,0)/VLOOKUP($A31,'Valores Cuota Diarios'!$B:$Q,'Gráficos (2)'!J$25,0))-1)^(360/365))-1 -> -0.20601945 | K30: =+((1+(VLOOKUP($A30,'Valores Cuota Diarios'!$B:$Q,'Gráficos (2)'!K$25,0)/VLOOKUP($A31,'Valores Cuota Diarios'!$B:$Q,'Gráficos (2)'!K$25,0))-1)^(360/365))-1 -> -0.20796177 | L30: =+((1+(VLOOKUP($A30,'Valores Cuota Diarios'!$B:$Q,'Gráficos (2)'!L$25,0)/VLOOKUP($A31,'Valores Cuota Diarios'!$B:$Q,'Gráficos (2)'!L$25,0))-1)^(360/365))-1 -> -0.21169394 | M30: =+((1+(VLOOKUP($A30,'Valores Cuota Diarios'!$B:$Q,'Gráficos (2)'!M$25,0)/VLOOKUP($A31,'Valores Cuota Diarios'!$B:$Q,'Gráficos (2)'!M$25,0))-1)^(360/365))-1 -> -0.21281455 | P30: 2022 | Q30: =+((1+(VLOOKUP($A30,'Valores Cuota Diarios'!$B:$Q,'Gráficos (2)'!Q$25,0)/VLOOKUP($A31,'Valores Cuota Diarios'!$B:$Q,'Gráficos (2)'!Q$25,0))-1)^(360/365))-1 -> -0.30261113 | R30: =+((1+(VLOOKUP($A30,'Valores Cuota Diarios'!$B:$Q,'Gráficos (2)'!R$25,0)/VLOOKUP($A31,'Valores Cuota Diarios'!$B:$Q,'Gráficos (2)'!R$25,0))-1)^(360/365))-1 -> -0.30425509 | S30: =+((1+(VLOOKUP($A30,'Valores Cuota Diarios'!$B:$Q,'Gráficos (2)'!S$25,0)/VLOOKUP($A31,'Valores Cuota Diarios'!$B:$Q,'Gráficos (2)'!S$25,0))-1)^(360/365))-1 -> -0.30589518 | T30: =+((1+(VLOOKUP($A30,'Valores Cuota Diarios'!$B:$Q,'Gráficos (2)'!T$25,0)/VLOOKUP($A31,'Valores Cuota Diarios'!$B:$Q,'Gráficos (2)'!T$25,0))-1)^(360/365))-1 -> -0.3087676 | V30: 44781 | W30: 2022 | Y30: =+(VLOOKUP($A30,'Valores Cuota Diarios'!$B:$Q,'Gráficos (2)'!Y$25,0)/VLOOKUP($V30,'Valores Cuota Diarios'!$B:$Q,'Gráficos (2)'!Y$25,0))-1 -> 0.0094361633 | Z30: =+(VLOOKUP($A30,'Valores Cuota Diarios'!$B:$Q,'Gráficos (2)'!Z$25,0)/VLOOKUP(44782,'Valores Cuota Diarios'!$B:$Q,'Gráficos (2)'!Z$25,0))-1 -> 0.0091586903
A31: 44561 | B31: 2021 | C31: =+((1+(VLOOKUP($A31,'Valores Cuota Diarios'!$B:$Q,'Gráficos (2)'!C$25,0)/VLOOKUP($A32,'Valores Cuota Diarios'!$B:$Q,'Gráficos (2)'!C$25,0))-1)^(360/365))-1 -> -0.019360155 | D31: =+((1+(VLOOKUP($A31,'Valores Cuota Diarios'!$B:$Q,'Gráficos (2)'!D$25,0)/VLOOKUP($A32,'Valores Cuota Diarios'!$B:$Q,'Gráficos (2)'!D$25,0))-1)^(360/365))-1 -> -0.02051666 | E31: =+((1+(VLOOKUP($A31,'Valores Cuota Diarios'!$B:$Q,'Gráficos (2)'!E$25,0)/VLOOKUP($A32,'Valores Cuota Diarios'!$B:$Q,'Gráficos (2)'!E$25,0))-1)^(360/365))-1 -> -0.021671805 | F31: =+((1+(VLOOKUP($A31,'Valores Cuota Diarios'!$B:$Q,'Gráficos (2)'!F$25,0)/VLOOKUP($A32,'Valores Cuota Diarios'!$B:$Q,'Gráficos (2)'!F$25,0))-1)^(360/365))-1 -> -0.02303195 | I31: 2021 | J31: =+((1+(VLOOKUP($A31,'Valores Cuota Diarios'!$B:$Q,'Gráficos (2)'!J$25,0)/VLOOKUP($A32,'Valores Cuota Diarios'!$B:$Q,'Gráficos (2)'!J$25,0))-1)^(360/365))-1 -> 0.1191591 | K31: =+((1+(VLOOKUP($A31,'Valores Cuota Diarios'!$B:$Q,'Gráficos (2)'!K$25,0)/VLOOKUP($A32,'Valores Cuota Diarios'!$B:$Q,'Gráficos (2)'!K$25,0))-1)^(360/365))-1 -> 0.11652092 | L31: =+((1+(VLOOKUP($A31,'Valores Cuota Diarios'!$B:$Q,'Gráficos (2)'!L$25,0)/VLOOKUP($A32,'Valores Cuota Diarios'!$B:$Q,'Gráficos (2)'!L$25,0))-1)^(360/365))-1 -> 0.11126315 | M31: =+((1+(VLOOKUP($A31,'Valores Cuota Diarios'!$B:$Q,'Gráficos (2)'!M$25,0)/VLOOKUP($A32,'Valores Cuota Diarios'!$B:$Q,'Gráficos (2)'!M$25,0))-1)^(360/365))-1 -> 0.11205644 | P31: 2021 | Q31: =-(1) -> -1 | R31: =+((1+(VLOOKUP($A31,'Valores Cuota Diarios'!$B:$Q,'Gráficos (2)'!R$25,0)/VLOOKUP($A32,'Valores Cuota Diarios'!$B:$Q,'Gráficos (2)'!R$25,0))-1)^(360/365))-1 -> -0.024786765 | S31: =+((1+(VLOOKUP($A31,'Valores Cuota Diarios'!$B:$Q,'Gráficos (2)'!S$25,0)/VLOOKUP($A32,'Valores Cuota Diarios'!$B:$Q,'Gráficos (2)'!S$25,0))-1)^(360/365))-1 -> -0.027085652 | T31: =+((1+(VLOOKUP($A31,'Valores Cuota Diarios'!$B:$Q,'Gráficos (2)'!T$25,0)/VLOOKUP($A32,'Valores Cuota Diarios'!$B:$Q,'Gráficos (2)'!T$25,0))-1)^(360/365))-1 -> -0.027130563 | W31: 2021 | Y31: - | Z31: -
A32: 44196 | B32: 2020 | C32: =+((1+(VLOOKUP($A32,'Valores Cuota Diarios'!$B:$Q,'Gráficos (2)'!C$25,0)/VLOOKUP($A33,'Valores Cuota Diarios'!$B:$Q,'Gráficos (2)'!C$25,0))-1)^(360/366))-1 -> 0.06169002 | D32: =+((1+(VLOOKUP($A32,'Valores Cuota Diarios'!$B:$Q,'Gráficos (2)'!D$25,0)/VLOOKUP($A33,'Valores Cuota Diarios'!$B:$Q,'Gráficos (2)'!D$25,0))-1)^(360/366))-1 -> 0.06043793 | E32: =+((1+(VLOOKUP($A32,'Valores Cuota Diarios'!$B:$Q,'Gráficos (2)'!E$25,0)/VLOOKUP($A33,'Valores Cuota Diarios'!$B:$Q,'Gráficos (2)'!E$25,0))-1)^(360/366))-1 -> 0.059187312 | F32: =+((VLOOKUP($A32,'Valores Cuota Diarios'!$B:$Q,'Gráficos (2)'!F$25,0)/VLOOKUP(43993,'Valores Cuota Diarios'!$B:$Q,'Gráficos (2)'!F$25,0))-1) -> 0.10364101 | I32: 2020 | J32: =+((1+(VLOOKUP($A32,'Valores Cuota Diarios'!$B:$Q,'Gráficos (2)'!J$25,0)/VLOOKUP($A33,'Valores Cuota Diarios'!$B:$Q,'Gráficos (2)'!J$25,0))-1)^(360/366))-1 -> 0.24434788 | K32: =+((1+(VLOOKUP($A32,'Valores Cuota Diarios'!$B:$Q,'Gráficos (2)'!K$25,0)/VLOOKUP($A33,'Valores Cuota Diarios'!$B:$Q,'Gráficos (2)'!K$25,0))-1)^(360/366))-1 -> 0.24141459 | L32: =+((1+(VLOOKUP($A32,'Valores Cuota Diarios'!$B:$Q,'Gráficos (2)'!L$25,0)/VLOOKUP($A33,'Valores Cuota Diarios'!$B:$Q,'Gráficos (2)'!L$25,0))-1)^(360/366))-1 -> 0.23556869 | M32: =+(VLOOKUP($A32,'Valores Cuota Diarios'!$B:$Q,'Gráficos (2)'!M$25,0)/VLOOKUP(43993,'Valores Cuota Diarios'!$B:$Q,'Gráficos (2)'!M$25,0))-1 -> 0.32909759 | P32: 2020 | Q32: =-(1) -> -1 | R32: =+(VLOOKUP($A32,'Valores Cuota Diarios'!$B:$Q,'Gráficos (2)'!R$25,0)/100)-1 -> 0.42864125 | S32: =+(VLOOKUP($A32,'Valores Cuota Diarios'!$B:$Q,'Gráficos (2)'!S$25,0)/100)-1 -> 0.42546038 | T32: =+(VLOOKUP($A32,'Valores Cuota Diarios'!$B:$Q,'Gráficos (2)'!T$25,0)/100)-1 -> 0.44111636 | W32: 2020 | Y32: - | Z32: -
A33: 43830 | B33: 2019 | C33: =+((1+(VLOOKUP($A33,'Valores Cuota Diarios'!$B:$Q,'Gráficos (2)'!C$25,0)/VLOOKUP(43465,'Valores Cuota Diarios'!$B:$Q,'Gráficos (2)'!C$25,0))-1)^(360/365))-1 -> 0.06560679 | D33: =+((1+(VLOOKUP($A33,'Valores Cuota Diarios'!$B:$Q,'Gráficos (2)'!D$25,0)/VLOOKUP(43465,'Valores Cuota Diarios'!$B:$Q,'Gráficos (2)'!D$25,0))-1)^(360/365))-1 -> 0.063452451 | E33: =+((1+(VLOOKUP($A33,'Valores Cuota Diarios'!$B:$Q,'Gráficos (2)'!E$25,0)/VLOOKUP(43465,'Valores Cuota Diarios'!$B:$Q,'Gráficos (2)'!E$25,0))-1)^(360/365))-1 -> 0.059663685 | F33: - | I33: 2019 | J33: =+((1+(VLOOKUP($A33,'Valores Cuota Diarios'!$B:$Q,'Gráficos (2)'!J$25,0)/VLOOKUP(43465,'Valores Cuota Diarios'!$B:$Q,'Gráficos (2)'!J$25,0))-1)^(360/365))-1 -> 0.16655192 | K33: =+((1+(VLOOKUP($A33,'Valores Cuota Diarios'!$B:$Q,'Gráficos (2)'!K$25,0)/VLOOKUP(43465,'Valores Cuota Diarios'!$B:$Q,'Gráficos (2)'!K$25,0))-1)^(360/365))-1 -> 0.16182504 | L33: =+((1+(VLOOKUP($A33,'Valores Cuota Diarios'!$B:$Q,'Gráficos (2)'!L$25,0)/VLOOKUP(43465,'Valores Cuota Diarios'!$B:$Q,'Gráficos (2)'!L$25,0))-1)^(360/365))-1 -> 0.15601043 | M33: - | P33: 2019 | Q33: - | R33: - | S33: - | T33: - | W33: 2019 | Y33: - | Z33: -
A34: 43465 | B34: Desde incepción | C34: =+(VLOOKUP($A27,'Valores Cuota Diarios'!$B:$Q,'Gráficos (2)'!C$25,0)/VLOOKUP(43248,'Valores Cuota Diarios'!$B:$Q,'Gráficos (2)'!C$25,0))-1 -> 0.14657005 | D34: =+(VLOOKUP($A27,'Valores Cuota Diarios'!$B:$Q,'Gráficos (2)'!D$25,0)/VLOOKUP(43248,'Valores Cuota Diarios'!$B:$Q,'Gráficos (2)'!D$25,0))-1 -> 0.13514961 | E34: =+(VLOOKUP($A27,'Valores Cuota Diarios'!$B:$Q,'Gráficos (2)'!E$25,0)/VLOOKUP(43248,'Valores Cuota Diarios'!$B:$Q,'Gráficos (2)'!E$25,0))-1 -> 0.12049708 | F34: =+(VLOOKUP($A27,'Valores Cuota Diarios'!$B:$Q,'Gráficos (2)'!F$25,0)/VLOOKUP(43993,'Valores Cuota Diarios'!$B:$Q,'Gráficos (2)'!F$25,0))-1 -> 0.082112359 | I34: Desde incepción | J34: =+(VLOOKUP($A27,'Valores Cuota Diarios'!$B:$Q,'Gráficos (2)'!J$25,0)/VLOOKUP(43248,'Valores Cuota Diarios'!$B:$Q,'Gráficos (2)'!J$25,0))-1 -> 0.77130593 | K34: =+(VLOOKUP($A27,'Valores Cuota Diarios'!$B:$Q,'Gráficos (2)'!K$25,0)/VLOOKUP(43248,'Valores Cuota Diarios'!$B:$Q,'Gráficos (2)'!K$25,0))-1 -> 0.73378685 | L34: =+(VLOOKUP($A27,'Valores Cuota Diarios'!$B:$Q,'Gráficos (2)'!L$25,0)/VLOOKUP(43248,'Valores Cuota Diarios'!$B:$Q,'Gráficos (2)'!L$25,0))-1 -> 0.67567336 | M34: =+(VLOOKUP($A27,'Valores Cuota Diarios'!$B:$Q,'Gráficos (2)'!M$25,0)/VLOOKUP(43993,'Valores Cuota Diarios'!$B:$Q,'Gráficos (2)'!M$25,0))-1 -> 0.73846805 | P34: Desde incepción | Q34: - | R34: =+(VLOOKUP($A27,'Valores Cuota Diarios'!$B:$Q,'Gráficos (2)'!R$25,0)/VLOOKUP(43858,'Valores Cuota Diarios'!$B:$Q,'Gráficos (2)'!R$25,0))-1 -> -1 | S34: =+(VLOOKUP($A27,'Valores Cuota Diarios'!$B:$Q,'Gráficos (2)'!S$25,0)/VLOOKUP(43856,'Valores Cuota Diarios'!$B:$Q,'Gráficos (2)'!S$25,0))-1 -> -1 | T34: =+(VLOOKUP($A27,'Valores Cuota Diarios'!$B:$Q,'Gráficos (2)'!T$25,0)/VLOOKUP(43856,'Valores Cuota Diarios'!$B:$Q,'Gráficos (2)'!T$25,0))-1 -> -1 | W34: Desde incepción | Y34: - | Z34: =+(VLOOKUP($A27,'Valores Cuota Diarios'!$B:$Q,'Gráficos (2)'!Z$25,0)/VLOOKUP(44781,'Valores Cuota Diarios'!$B:$Q,'Gráficos (2)'!Z$25,0))-1 -> 0.14658879
A35: 43236
A36: 43249 | B36: ="Elaboración propia con información de valor cuota al cierre de "&TEXT(EOMONTH(TODAY(),-1),"mmmm")&" "&TEXT(EOMONTH(TODAY(),-1),"yyyy") -> Elaboración propia con información de valor cuota al cierre de Diciembre 2025
B37: Infórmese de las características esenciales de la inversión en los Fondos Mutuos administrados por Faro Capital SAF, las que se encuentran contenidas en el prospecto simplificado y reglamento de participación. La rentabilidad o ganancia obtenida en el pasado, no garantiza que se repita en el futuro. Estas rentabilidades no incluyen el efecto de las comisiones de suscripción y rescate, ni el impuesto a la renta. La rentabilidad que corresponde al primer año de etapa operativa de cada fondo está calculado en base a una rentabildiad acumulada. Asimismo, la rentabilidad del año en curso es acumulada. (1) En los años 2020, 2021, 2024 y durante el 2025 hubo periodos de tiempo sin cuotas en la serie A del fondo Faro Capital Global Innovation FMIV. (2) En el año 2023 y 2025 hubo periodos de tiempo sin cuotas en la serie A del fondo Faro Capiral Corto Plazo Dólares FMIV

Sheet Gráficos
B22: RENTABILIDADES (%) | I22: RENTABILIDADES (%) | P22: RENTABILIDADES (%) | W22: RENTABILIDADES (%) | AC22: RENTABILIDADES (%) | AJ22: RENTABILIDADES (%)
B23: FARO CAPITAL DEUDA GLOBAL FMIV | F23: FONDO DE FONDOS FARO CAPITAL DEUDA GLOBAL FMIV | I23: FARO CAPITAL RENTA VARIABLE GLOBAL FMIV | M23: FONDO DE FONDOS FARO CAPITAL RENTA VARIABLE GLOBAL FMIV | P23: FARO CAPITAL GLOBAL INNOVATION FMIV | T23: FONDO DE FONDOS FARO CAPITAL GLOBAL INNOVATION FMIV | W23: FARO CAPITAL FLEXIBLE FMIV | AC23: FARO CAPITAL GLOBAL INNOVATION FMIV | AG23: FONDO DE FONDOS FARO CAPITAL GLOBAL INNOVATION FMIV | AJ23: FARO CAPITAL CORTO PLAZO DOLARES FMIV
C25: 2 | D25: 3 | E25: 4 | F25: 15 | J25: 5 | K25: 6 | L25: 7 | M25: 16 | Q25: 8 | R25: 9 | S25: 10 | T25: 14 | Y25: 18 | Z25: 19 | AD25: 8 | AE25: 9 | AF25: 10 | AG25: 14 | AK25: 11 | AL25: 11 | AM25: 12
C26: Serie A | D26: Serie B | E26: Serie C | F26: Serie Retail | J26: Serie A | K26: Serie B | L26: Serie C | M26: Serie Retail | Q26: Serie A | R26: Serie B | S26: Serie C | T26: Serie Retail | Y26: Serie B | Z26: Serie C | AD26: Serie A | AE26: Serie B | AF26: Serie C | AG26: Serie Retail | AL26: Serie A | AM26: Serie B
A27: =+EOMONTH(MAX('Valores Cuota Diarios'!B:B),-1) -> 46022 | B27: =+TEXT($A$27,"yyyy") -> 2025 | C27: =+((1+(VLOOKUP($A27,'Valores Cuota Diarios'!$B:$Q,Gráficos!C$25,0)/VLOOKUP($A28,'Valores Cuota Diarios'!$B:$Q,Gráficos!C$25,0))-1)^(360/365))-1 -> 0.088795105 | D27: =+((1+(VLOOKUP($A27,'Valores Cuota Diarios'!$B:$Q,Gráficos!D$25,0)/VLOOKUP($A28,'Valores Cuota Diarios'!$B:$Q,Gráficos!D$25,0))-1)^(360/365))-1 -> 0.088152886 | E27: =+((1+(VLOOKUP($A27,'Valores Cuota Diarios'!$B:$Q,Gráficos!E$25,0)/VLOOKUP($A28,'Valores Cuota Diarios'!$B:$Q,Gráficos!E$25,0))-1)^(360/365))-1 -> 0.087511045 | F27: =+((1+(VLOOKUP($A27,'Valores Cuota Diarios'!$B:$Q,Gráficos!F$25,0)/VLOOKUP($A28,'Valores Cuota Diarios'!$B:$Q,Gráficos!F$25,0))-1)^(360/365))-1 -> 0.084687381 | I27: =+TEXT($A$27,"yyyy") -> 2025 | J27: =((1+(VLOOKUP($A27,'Valores Cuota Diarios'!$B:$Q,Gráficos!J$25,0)/VLOOKUP($A28,'Valores Cuota Diarios'!$B:$Q,Gráficos!J$25,0))-1)^(360/365))-1 -> 0.15609 | K27: =((1+(VLOOKUP($A27,'Valores Cuota Diarios'!$B:$Q,Gráficos!K$25,0)/VLOOKUP($A28,'Valores Cuota Diarios'!$B:$Q,Gráficos!K$25,0))-1)^(360/365))-1 -> 0.15336475 | L27: =((1+(VLOOKUP($A27,'Valores Cuota Diarios'!$B:$Q,Gráficos!L$25,0)/VLOOKUP($A28,'Valores Cuota Diarios'!$B:$Q,Gráficos!L$25,0))-1)^(360/365))-1 -> 0.1506459 | M27: =+((1+(VLOOKUP($A27,'Valores Cuota Diarios'!$B:$Q,Gráficos!M$25,0)/VLOOKUP($A28,'Valores Cuota Diarios'!$B:$Q,Gráficos!M$25,0))-1)^(360/365))-1 -> 0.14690394 | P27: =+$A$27 -> 46022 | Q27: =-(1) -> -1 | R27: =+(VLOOKUP($A27,'Valores Cuota Diarios'!$B:$Q,Gráficos!R$25,0)/VLOOKUP($A28,'Valores Cuota Diarios'!$B:$Q,Gráficos!R$25,0))-1 -> -1 | S27: =+(VLOOKUP($A27,'Valores Cuota Diarios'!$B:$Q,Gráficos!S$25,0)/VLOOKUP($A28,'Valores Cuota Diarios'!$B:$Q,Gráficos!S$25,0))-1 -> -1 | T27: =+(VLOOKUP($A27,'Valores Cuota Diarios'!$B:$Q,Gráficos!T$25,0)/VLOOKUP($A28,'Valores Cuota Diarios'!$B:$Q,Gráficos!T$25,0))-1 -> -1 | W27: 2025 | Y27: =+Y34 -> 0.0075967525 | Z27: =+Z34 -> 0.11347678 | AC27: =+$A$27 -> 46022 | AD27: =-(1) -> -1 | AE27: =+(VLOOKUP($A27,'Valores Cuota Diarios'!$B:$Q,Gráficos!AE$25,0)/VLOOKUP($A28,'Valores Cuota Diarios'!$B:$Q,Gráficos!AE$25,0))-1 -> -1 | AF27: =+(VLOOKUP($A27,'Valores Cuota Diarios'!$B:$Q,Gráficos!AF$25,0)/VLOOKUP($A28,'Valores Cuota Diarios'!$B:$Q,Gráficos!AF$25,0))-1 -> -1 | AG27: =+(VLOOKUP($A27,'Valores Cuota Diarios'!$B:$Q,Gráficos!AG$25,0)/VLOOKUP($A28,'Valores Cuota Diarios'!$B:$Q,Gráficos!AG$25,0))-1 -> -1 | AJ27: 2025 | AL27: - | AM27: =+((1+(VLOOKUP($A27,'Valores Cuota Diarios'!$B:$Q,Gráficos!AM$25,0)/VLOOKUP($A28,'Valores Cuota Diarios'!$B:$Q,Gráficos!AM$25,0))-1)^(360/365))-1 -> 0.037692509
A28: 45657 | B28: 2024 | C28: =+((1+(VLOOKUP($A28,'Valores Cuota Diarios'!$B:$Q,Gráficos!C$25,0)/VLOOKUP($A29,'Valores Cuota Diarios'!$B:$Q,Gráficos!C$25,0))-1)^(360/366))-1 -> 0.023200086 | D28: =+((1+(VLOOKUP($A28,'Valores Cuota Diarios'!$B:$Q,Gráficos!D$25,0)/VLOOKUP($A29,'Valores Cuota Diarios'!$B:$Q,Gráficos!D$25,0))-1)^(360/366))-1 -> 0.022037872 | E28: =+((1+(VLOOKUP($A28,'Valores Cuota Diarios'!$B:$Q,Gráficos!E$25,0)/VLOOKUP($A29,'Valores Cuota Diarios'!$B:$Q,Gráficos!E$25,0))-1)^(360/366))-1 -> 0.020876975 | F28: =+((1+(VLOOKUP($A28,'Valores Cuota Diarios'!$B:$Q,Gráficos!F$25,0)/VLOOKUP($A29,'Valores Cuota Diarios'!$B:$Q,Gráficos!F$25,0))-1)^(360/366))-1 -> 0.018151735 | I28: 2024 | J28: =+((1+(VLOOKUP($A28,'Valores Cuota Diarios'!$B:$Q,Gráficos!J$25,0)/VLOOKUP($A29,'Valores Cuota Diarios'!$B:$Q,Gráficos!J$25,0))-1)^(360/366))-1 -> 0.12760569 | K28: =+((1+(VLOOKUP($A28,'Valores Cuota Diarios'!$B:$Q,Gráficos!K$25,0)/VLOOKUP($A29,'Valores Cuota Diarios'!$B:$Q,Gráficos!K$25,0))-1)^(360/366))-1 -> 0.1249476 | L28: =+((1+(VLOOKUP($A28,'Valores Cuota Diarios'!$B:$Q,Gráficos!L$25,0)/VLOOKUP($A29,'Valores Cuota Diarios'!$B:$Q,Gráficos!L$25,0))-1)^(360/366))-1 -> 0.11984511 | M28: =+((1+(VLOOKUP($A28,'Valores Cuota Diarios'!$B:$Q,Gráficos!M$25,0)/VLOOKUP($A29,'Valores Cuota Diarios'!$B:$Q,Gráficos!M$25,0))-1)^(360/366))-1 -> 0.11700977 | P28: 2024 | Q28: =-(1) -> -1 | R28: =+((1+(VLOOKUP($A28,'Valores Cuota Diarios'!$B:$Q,Gráficos!R$25,0)/VLOOKUP($A29,'Valores Cuota Diarios'!$B:$Q,Gráficos!R$25,0))-1)^(360/366))-1 -> 0.090677291 | S28: =+((1+(VLOOKUP($A28,'Valores Cuota Diarios'!$B:$Q,Gráficos!S$25,0)/VLOOKUP($A29,'Valores Cuota Diarios'!$B:$Q,Gráficos!S$25,0))-1)^(360/366))-1 -> 0.088106218 | T28: =+((1+(VLOOKUP($A28,'Valores Cuota Diarios'!$B:$Q,Gráficos!T$25,0)/VLOOKUP($A29,'Valores Cuota Diarios'!$B:$Q,Gráficos!T$25,0))-1)^(360/366))-1 -> 0.084146515 | W28: 2024 | Y28: - | Z28: - | AC28: 2024 | AD28: =-(1) -> -1 | AE28: =+((1+(VLOOKUP($A28,'Valores Cuota Diarios'!$B:$Q,Gráficos!AE$25,0)/VLOOKUP($A29,'Valores Cuota Diarios'!$B:$Q,Gráficos!AE$25,0))-1)^(360/366))-1 -> 0.090677291 | AF28: =+((1+(VLOOKUP($A28,'Valores Cuota Diarios'!$B:$Q,Gráficos!AF$25,0)/VLOOKUP($A29,'Valores Cuota Diarios'!$B:$Q,Gráficos!AF$25,0))-1)^(360/366))-1 -> 0.088106218 | AG28: =+((1+(VLOOKUP($A28,'Valores Cuota Diarios'!$B:$Q,Gráficos!AG$25,0)/VLOOKUP($A29,'Valores Cuota Diarios'!$B:$Q,Gráficos!AG$25,0))-1)^(360/366))-1 -> 0.084146515 | AJ28: 2024 | AL28: =+((1+(VLOOKUP($A28,'Valores Cuota Diarios'!$B:$Q,Gráficos!AL$25,0)/VLOOKUP($A29,'Valores Cuota Diarios'!$B:$Q,Gráficos!AL$25,0))-1)^(360/366))-1 -> 0.046974148 | AM28: =+((1+(VLOOKUP($A28,'Valores Cuota Diarios'!$B:$Q,Gráficos!AM$25,0)/VLOOKUP($A29,'Valores Cuota Diarios'!$B:$Q,Gráficos!AM$25,0))-1)^(360/366))-1 -> 0.046005787
A29: 45291 | B29: 2023 | C29: =+((1+(VLOOKUP($A29,'Valores Cuota Diarios'!$B:$Q,Gráficos!C$25,0)/VLOOKUP($A30,'Valores Cuota Diarios'!$B:$Q,Gráficos!C$25,0))-1)^(360/365))-1 -> 0.044744932 | D29: =+((1+(VLOOKUP($A29,'Valores Cuota Diarios'!$B:$Q,Gráficos!D$25,0)/VLOOKUP($A30,'Valores Cuota Diarios'!$B:$Q,Gráficos!D$25,0))-1)^(360/365))-1 -> 0.043512826 | E29: =+((1+(VLOOKUP($A29,'Valores Cuota Diarios'!$B:$Q,Gráficos!E$25,0)/VLOOKUP($A30,'Valores Cuota Diarios'!$B:$Q,Gráficos!E$25,0))-1)^(360/365))-1 -> 0.042282169 | F29: =+((1+(VLOOKUP($A29,'Valores Cuota Diarios'!$B:$Q,Gráficos!F$25,0)/VLOOKUP($A30,'Valores Cuota Diarios'!$B:$Q,Gráficos!F$25,0))-1)^(360/365))-1 -> 0.037303838 | I29: 2023 | J29: =+((1+(VLOOKUP($A29,'Valores Cuota Diarios'!$B:$Q,Gráficos!J$25,0)/VLOOKUP($A30,'Valores Cuota Diarios'!$B:$Q,Gráficos!J$25,0))-1)^(360/365))-1 -> 0.1724418 | K29: =+((1+(VLOOKUP($A29,'Valores Cuota Diarios'!$B:$Q,Gráficos!K$25,0)/VLOOKUP($A30,'Valores Cuota Diarios'!$B:$Q,Gráficos!K$25,0))-1)^(360/365))-1 -> 0.16967801 | L29: =+((1+(VLOOKUP($A29,'Valores Cuota Diarios'!$B:$Q,Gráficos!L$25,0)/VLOOKUP($A30,'Valores Cuota Diarios'!$B:$Q,Gráficos!L$25,0))-1)^(360/365))-1 -> 0.16416993 | M29: =+((1+(VLOOKUP($A29,'Valores Cuota Diarios'!$B:$Q,Gráficos!M$25,0)/VLOOKUP($A30,'Valores Cuota Diarios'!$B:$Q,Gráficos!M$25,0))-1)^(360/365))-1 -> 0.16169704 | P29: 2023 | Q29: =+((1+(VLOOKUP($A29,'Valores Cuota Diarios'!$B:$Q,Gráficos!Q$25,0)/VLOOKUP($A30,'Valores Cuota Diarios'!$B:$Q,Gráficos!Q$25,0))-1)^(360/365))-1 -> 0.23141812 | R29: =+((1+(VLOOKUP($A29,'Valores Cuota Diarios'!$B:$Q,Gráficos!R$25,0)/VLOOKUP($A30,'Valores Cuota Diarios'!$B:$Q,Gráficos!R$25,0))-1)^(360/365))-1 -> 0.22851529 | S29: =+((1+(VLOOKUP($A29,'Valores Cuota Diarios'!$B:$Q,Gráficos!S$25,0)/VLOOKUP($A30,'Valores Cuota Diarios'!$B:$Q,Gráficos!S$25,0))-1)^(360/365))-1 -> 0.22561929 | T29: =+((1+(VLOOKUP($A29,'Valores Cuota Diarios'!$B:$Q,Gráficos!T$25,0)/VLOOKUP($A30,'Valores Cuota Diarios'!$B:$Q,Gráficos!T$25,0))-1)^(360/365))-1 -> 0.22048056 | W29: 2023 | Y29: - | Z29: - | AC29: 2023 | AD29: =+((1+(VLOOKUP($A29,'Valores Cuota Diarios'!$B:$Q,Gráficos!AD$25,0)/VLOOKUP($A30,'Valores Cuota Diarios'!$B:$Q,Gráficos!AD$25,0))-1)^(360/365))-1 -> 0.23141812 | AE29: =+((1+(VLOOKUP($A29,'Valores Cuota Diarios'!$B:$Q,Gráficos!AE$25,0)/VLOOKUP($A30,'Valores Cuota Diarios'!$B:$Q,Gráficos!AE$25,0))-1)^(360/365))-1 -> 0.22851529 | AF29: =+((1+(VLOOKUP($A29,'Valores Cuota Diarios'!$B:$Q,Gráficos!AF$25,0)/VLOOKUP($A30,'Valores Cuota Diarios'!$B:$Q,Gráficos!AF$25,0))-1)^(360/365))-1 -> 0.22561929 | AG29: =+((1+(VLOOKUP($A29,'Valores Cuota Diarios'!$B:$Q,Gráficos!AG$25,0)/VLOOKUP($A30,'Valores Cuota Diarios'!$B:$Q,Gráficos!AG$25,0))-1)^(360/365))-1 -> 0.22048056 | AJ29: 2023 | AL29: - | AM29: =+((1+(VLOOKUP($A29,'Valores Cuota Diarios'!$B:$Q,Gráficos!AM$25,0)/VLOOKUP($A30,'Valores Cuota Diarios'!$B:$Q,Gráficos!AM$25,0))-1)^(360/365)-1) -> 0.044759696
A30: 44926 | B30: 2022 | C30: =+((1+(VLOOKUP($A30,'Valores Cuota Diarios'!$B:$Q,Gráficos!C$25,0)/VLOOKUP($A31,'Valores Cuota Diarios'!$B:$Q,Gráficos!C$25,0))-1)^(360/365))-1 -> -0.1173516 | D30: =+((1+(VLOOKUP($A30,'Valores Cuota Diarios'!$B:$Q,Gráficos!D$25,0)/VLOOKUP($A31,'Valores Cuota Diarios'!$B:$Q,Gráficos!D$25,0))-1)^(360/365))-1 -> -0.11839253 | E30: =+((1+(VLOOKUP($A30,'Valores Cuota Diarios'!$B:$Q,Gráficos!E$25,0)/VLOOKUP($A31,'Valores Cuota Diarios'!$B:$Q,Gráficos!E$25,0))-1)^(360/365))-1 -> -0.11943102 | F30: =+((1+(VLOOKUP($A30,'Valores Cuota Diarios'!$B:$Q,Gráficos!F$25,0)/VLOOKUP($A31,'Valores Cuota Diarios'!$B:$Q,Gráficos!F$25,0))-1)^(360/365))-1 -> -0.12373214 | I30: 2022 | J30: =+((1+(VLOOKUP($A30,'Valores Cuota Diarios'!$B:$Q,Gráficos!J$25,0)/VLOOKUP($A31,'Valores Cuota Diarios'!$B:$Q,Gráficos!J$25,0))-1)^(360/365))-1 -> -0.20601945 | K30: =+((1+(VLOOKUP($A30,'Valores Cuota Diarios'!$B:$Q,Gráficos!K$25,0)/VLOOKUP($A31,'Valores Cuota Diarios'!$B:$Q,Gráficos!K$25,0))-1)^(360/365))-1 -> -0.20796177 | L30: =+((1+(VLOOKUP($A30,'Valores Cuota Diarios'!$B:$Q,Gráficos!L$25,0)/VLOOKUP($A31,'Valores Cuota Diarios'!$B:$Q,Gráficos!L$25,0))-1)^(360/365))-1 -> -0.21169394 | M30: =+((1+(VLOOKUP($A30,'Valores Cuota Diarios'!$B:$Q,Gráficos!M$25,0)/VLOOKUP($A31,'Valores Cuota Diarios'!$B:$Q,Gráficos!M$25,0))-1)^(360/365))-1 -> -0.21281455 | P30: 2022 | Q30: =+((1+(VLOOKUP($A30,'Valores Cuota Diarios'!$B:$Q,Gráficos!Q$25,0)/VLOOKUP($A31,'Valores Cuota Diarios'!$B:$Q,Gráficos!Q$25,0))-1)^(360/365))-1 -> -0.30261113 | R30: =+((1+(VLOOKUP($A30,'Valores Cuota Diarios'!$B:$Q,Gráficos!R$25,0)/VLOOKUP($A31,'Valores Cuota Diarios'!$B:$Q,Gráficos!R$25,0))-1)^(360/365))-1 -> -0.30425509 | S30: =+((1+(VLOOKUP($A30,'Valores Cuota Diarios'!$B:$Q,Gráficos!S$25,0)/VLOOKUP($A31,'Valores Cuota Diarios'!$B:$Q,Gráficos!S$25,0))-1)^(360/365))-1 -> -0.30589518 | T30: =+((1+(VLOOKUP($A30,'Valores Cuota Diarios'!$B:$Q,Gráficos!T$25,0)/VLOOKUP($A31,'Valores Cuota Diarios'!$B:$Q,Gráficos!T$25,0))-1)^(360/365))-1 -> -0.3087676 | V30: 44781 | W30: 2022 | Y30: - | Z30: - | AC30: 2022 | AD30: =+((1+(VLOOKUP($A30,'Valores Cuota Diarios'!$B:$Q,Gráficos!AD$25,0)/VLOOKUP($A31,'Valores Cuota Diarios'!$B:$Q,Gráficos!AD$25,0))-1)^(360/365))-1 -> -0.30261113 | AE30: =+((1+(VLOOKUP($A30,'Valores Cuota Diarios'!$B:$Q,Gráficos!AE$25,0)/VLOOKUP($A31,'Valores Cuota Diarios'!$B:$Q,Gráficos!AE$25,0))-1)^(360/365))-1 -> -0.30425509 | AF30: =+((1+(VLOOKUP($A30,'Valores Cuota Diarios'!$B:$Q,Gráficos!AF$25,0)/VLOOKUP($A31,'Valores Cuota Diarios'!$B:$Q,Gráficos!AF$25,0))-1)^(360/365))-1 -> -0.30589518 | AG30: =+((1+(VLOOKUP($A30,'Valores Cuota Diarios'!$B:$Q,Gráficos!AG$25,0)/VLOOKUP($A31,'Valores Cuota Diarios'!$B:$Q,Gráficos!AG$25,0))-1)^(360/365))-1 -> -0.3087676 | AI30: 44781 | AJ30: 2022 | AL30: =+(VLOOKUP($A30,'Valores Cuota Diarios'!$B:$Q,Gráficos!AL$25,0)/VLOOKUP($V30,'Valores Cuota Diarios'!$B:$Q,Gráficos!AL$25,0))-1 -> 0.0094361633 | AM30: =+(VLOOKUP($A30,'Valores Cuota Diarios'!$B:$Q,Gráficos!AM$25,0)/VLOOKUP(44782,'Valores Cuota Diarios'!$B:$Q,Gráficos!AM$25,0))-1 -> 0.0091586903
A31: 44561 | B31: 2021 | C31: =+((1+(VLOOKUP($A31,'Valores Cuota Diarios'!$B:$Q,Gráficos!C$25,0)/VLOOKUP($A32,'Valores Cuota Diarios'!$B:$Q,Gráficos!C$25,0))-1)^(360/365))-1 -> -0.019360155 | D31: =+((1+(VLOOKUP($A31,'Valores Cuota Diarios'!$B:$Q,Gráficos!D$25,0)/VLOOKUP($A32,'Valores Cuota Diarios'!$B:$Q,Gráficos!D$25,0))-1)^(360/365))-1 -> -0.02051666 | E31: =+((1+(VLOOKUP($A31,'Valores Cuota Diarios'!$B:$Q,Gráficos!E$25,0)/VLOOKUP($A32,'Valores Cuota Diarios'!$B:$Q,Gráficos!E$25,0))-1)^(360/365))-1 -> -0.021671805 | F31: =+((1+(VLOOKUP($A31,'Valores Cuota Diarios'!$B:$Q,Gráficos!F$25,0)/VLOOKUP($A32,'Valores Cuota Diarios'!$B:$Q,Gráficos!F$25,0))-1)^(360/365))-1 -> -0.02303195 | I31: 2021 | J31: =+((1+(VLOOKUP($A31,'Valores Cuota Diarios'!$B:$Q,Gráficos!J$25,0)/VLOOKUP($A32,'Valores Cuota Diarios'!$B:$Q,Gráficos!J$25,0))-1)^(360/365))-1 -> 0.1191591 | K31: =+((1+(VLOOKUP($A31,'Valores Cuota Diarios'!$B:$Q,Gráficos!K$25,0)/VLOOKUP($A32,'Valores Cuota Diarios'!$B:$Q,Gráficos!K$25,0))-1)^(360/365))-1 -> 0.11652092 | L31: =+((1+(VLOOKUP($A31,'Valores Cuota Diarios'!$B:$Q,Gráficos!L$25,0)/VLOOKUP($A32,'Valores Cuota Diarios'!$B:$Q,Gráficos!L$25,0))-1)^(360/365))-1 -> 0.11126315 | M31: =+((1+(VLOOKUP($A31,'Valores Cuota Diarios'!$B:$Q,Gráficos!M$25,0)/VLOOKUP($A32,'Valores Cuota Diarios'!$B:$Q,Gráficos!M$25,0))-1)^(360/365))-1 -> 0.11205644 | P31: 2021 | Q31: =-(1) -> -1 | R31: =+((1+(VLOOKUP($A31,'Valores Cuota Diarios'!$B:$Q,Gráficos!R$25,0)/VLOOKUP($A32,'Valores Cuota Diarios'!$B:$Q,Gráficos!R$25,0))-1)^(360/365))-1 -> -0.024786765 | S31: =+((1+(VLOOKUP($A31,'Valores Cuota Diarios'!$B:$Q,Gráficos!S$25,0)/VLOOKUP($A32,'Valores Cuota Diarios'!$B:$Q,Gráficos!S$25,0))-1)^(360/365))-1 -> -0.027085652 | T31: =+((1+(VLOOKUP($A31,'Valores Cuota Diarios'!$B:$Q,Gráficos!T$25,0)/VLOOKUP($A32,'Valores Cuota Diarios'!$B:$Q,Gráficos!T$25,0))-1)^(360/365))-1 -> -0.027130563 | W31: 2021 | Y31: - | Z31: - | AC31: 2021 | AD31: =-(1) -> -1 | AE31: =+((1+(VLOOKUP($A31,'Valores Cuota Diarios'!$B:$Q,Gráficos!AE$25,0)/VLOOKUP($A32,'Valores Cuota Diarios'!$B:$Q,Gráficos!AE$25,0))-1)^(360/365))-1 -> -0.024786765 | AF31: =+((1+(VLOOKUP($A31,'Valores Cuota Diarios'!$B:$Q,Gráficos!AF$25,0)/VLOOKUP($A32,'Valores Cuota Diarios'!$B:$Q,Gráficos!AF$25,0))-1)^(360/365))-1 -> -0.027085652 | AG31: =+((1+(VLOOKUP($A31,'Valores Cuota Diarios'!$B:$Q,Gráficos!AG$25,0)/VLOOKUP($A32,'Valores Cuota Diarios'!$B:$Q,Gráficos!AG$25,0))-1)^(360/365))-1 -> -0.027130563 | AJ31: 2021 | AL31: - | AM31: -
A32: 44196 | B32: 2020 | C32: =+((1+(VLOOKUP($A32,'Valores Cuota Diarios'!$B:$Q,Gráficos!C$25,0)/VLOOKUP($A33,'Valores Cuota Diarios'!$B:$Q,Gráficos!C$25,0))-1)^(360/366))-1 -> 0.06169002 | D32: =+((1+(VLOOKUP($A32,'Valores Cuota Diarios'!$B:$Q,Gráficos!D$25,0)/VLOOKUP($A33,'Valores Cuota Diarios'!$B:$Q,Gráficos!D$25,0))-1)^(360/366))-1 -> 0.06043793 | E32: =+((1+(VLOOKUP($A32,'Valores Cuota Diarios'!$B:$Q,Gráficos!E$25,0)/VLOOKUP($A33,'Valores Cuota Diarios'!$B:$Q,Gráficos!E$25,0))-1)^(360/366))-1 -> 0.059187312 | F32: =+((VLOOKUP($A32,'Valores Cuota Diarios'!$B:$Q,Gráficos!F$25,0)/VLOOKUP(43993,'Valores Cuota Diarios'!$B:$Q,Gráficos!F$25,0))-1) -> 0.10364101 | I32: 2020 | J32: =+((1+(VLOOKUP($A32,'Valores Cuota Diarios'!$B:$Q,Gráficos!J$25,0)/VLOOKUP($A33,'Valores Cuota Diarios'!$B:$Q,Gráficos!J$25,0))-1)^(360/366))-1 -> 0.24434788 | K32: =+((1+(VLOOKUP($A32,'Valores Cuota Diarios'!$B:$Q,Gráficos!K$25,0)/VLOOKUP($A33,'Valores Cuota Diarios'!$B:$Q,Gráficos!K$25,0))-1)^(360/366))-1 -> 0.24141459 | L32: =+((1+(VLOOKUP($A32,'Valores Cuota Diarios'!$B:$Q,Gráficos!L$25,0)/VLOOKUP($A33,'Valores Cuota Diarios'!$B:$Q,Gráficos!L$25,0))-1)^(360/366))-1 -> 0.23556869 | M32: =+(VLOOKUP($A32,'Valores Cuota Diarios'!$B:$Q,Gráficos!M$25,0)/VLOOKUP(43993,'Valores Cuota Diarios'!$B:$Q,Gráficos!M$25,0))-1 -> 0.32909759 | P32: 2020 | Q32: =-(1) -> -1 | R32: =+(VLOOKUP($A32,'Valores Cuota Diarios'!$B:$Q,Gráficos!R$25,0)/100)-1 -> 0.42864125 | S32: =+(VLOOKUP($A32,'Valores Cuota Diarios'!$B:$Q,Gráficos!S$25,0)/100)-1 -> 0.42546038 | T32: =+(VLOOKUP($A32,'Valores Cuota Diarios'!$B:$Q,Gráficos!T$25,0)/100)-1 -> 0.44111636 | W32: 2020 | Y32: - | Z32: - | AC32: 2020 | AD32: =-(1) -> -1 | AE32: =+(VLOOKUP($A32,'Valores Cuota Diarios'!$B:$Q,Gráficos!AE$25,0)/100)-1 -> 0.42864125 | AF32: =+(VLOOKUP($A32,'Valores Cuota Diarios'!$B:$Q,Gráficos!AF$25,0)/100)-1 -> 0.42546038 | AG32: =+(VLOOKUP($A32,'Valores Cuota Diarios'!$B:$Q,Gráficos!AG$25,0)/100)-1 -> 0.44111636 | AJ32: 2020 | AL32: - | AM32: -
A33: 43830 | B33: 2019 | C33: =+((1+(VLOOKUP($A33,'Valores Cuota Diarios'!$B:$Q,Gráficos!C$25,0)/VLOOKUP(43465,'Valores Cuota Diarios'!$B:$Q,Gráficos!C$25,0))-1)^(360/365))-1 -> 0.06560679 | D33: =+((1+(VLOOKUP($A33,'Valores Cuota Diarios'!$B:$Q,Gráficos!D$25,0)/VLOOKUP(43465,'Valores Cuota Diarios'!$B:$Q,Gráficos!D$25,0))-1)^(360/365))-1 -> 0.063452451 | E33: =+((1+(VLOOKUP($A33,'Valores Cuota Diarios'!$B:$Q,Gráficos!E$25,0)/VLOOKUP(43465,'Valores Cuota Diarios'!$B:$Q,Gráficos!E$25,0))-1)^(360/365))-1 -> 0.059663685 | F33: - | I33: 2019 | J33: =+((1+(VLOOKUP($A33,'Valores Cuota Diarios'!$B:$Q,Gráficos!J$25,0)/VLOOKUP(43465,'Valores Cuota Diarios'!$B:$Q,Gráficos!J$25,0))-1)^(360/365))-1 -> 0.16655192 | K33: =+((1+(VLOOKUP($A33,'Valores Cuota Diarios'!$B:$Q,Gráficos!K$25,0)/VLOOKUP(43465,'Valores Cuota Diarios'!$B:$Q,Gráficos!K$25,0))-1)^(360/365))-1 -> 0.16182504 | L33: =+((1+(VLOOKUP($A33,'Valores Cuota Diarios'!$B:$Q,Gráficos!L$25,0)/VLOOKUP(43465,'Valores Cuota Diarios'!$B:$Q,Gráficos!L$25,0))-1)^(360/365))-1 -> 0.15601043 | M33: - | P33: 2019 | Q33: - | R33: - | S33: - | T33: - | W33: 2019 | Y33: - | Z33: - | AC33: 2019 | AD33: - | AE33: - | AF33: - | AG33: - | AJ33: 2019 | AL33: - | AM33: -
A34: 43465 | B34: Desde incepción | C34: =+(VLOOKUP($A27,'Valores Cuota Diarios'!$B:$Q,Gráficos!C$25,0)/VLOOKUP(43248,'Valores Cuota Diarios'!$B:$Q,Gráficos!C$25,0))-1 -> 0.14657005 | D34: =+(VLOOKUP($A27,'Valores Cuota Diarios'!$B:$Q,Gráficos!D$25,0)/VLOOKUP(43248,'Valores Cuota Diarios'!$B:$Q,Gráficos!D$25,0))-1 -> 0.13514961 | E34: =+(VLOOKUP($A27,'Valores Cuota Diarios'!$B:$Q,Gráficos!E$25,0)/VLOOKUP(43248,'Valores Cuota Diarios'!$B:$Q,Gráficos!E$25,0))-1 -> 0.12049708 | F34: =+(VLOOKUP($A27,'Valores Cuota Diarios'!$B:$Q,Gráficos!F$25,0)/VLOOKUP(43993,'Valores Cuota Diarios'!$B:$Q,Gráficos!F$25,0))-1 -> 0.082112359 | I34: Desde incepción | J34: =+(VLOOKUP($A27,'Valores Cuota Diarios'!$B:$Q,Gráficos!J$25,0)/VLOOKUP(43248,'Valores Cuota Diarios'!$B:$Q,Gráficos!J$25,0))-1 -> 0.77130593 | K34: =+(VLOOKUP($A27,'Valores Cuota Diarios'!$B:$Q,Gráficos!K$25,0)/VLOOKUP(43248,'Valores Cuota Diarios'!$B:$Q,Gráficos!K$25,0))-1 -> 0.73378685 | L34: =+(VLOOKUP($A27,'Valores Cuota Diarios'!$B:$Q,Gráficos!L$25,0)/VLOOKUP(43248,'Valores Cuota Diarios'!$B:$Q,Gráficos!L$25,0))-1 -> 0.67567336 | M34: =+(VLOOKUP($A27,'Valores Cuota Diarios'!$B:$Q,Gráficos!M$25,0)/VLOOKUP(43993,'Valores Cuota Diarios'!$B:$Q,Gráficos!M$25,0))-1 -> 0.73846805 | P34: Desde incepción | Q34: - | R34: =+(VLOOKUP($A27,'Valores Cuota Diarios'!$B:$Q,Gráficos!R$25,0)/VLOOKUP(43858,'Valores Cuota Diarios'!$B:$Q,Gráficos!R$25,0))-1 -> -1 | S34: =+(VLOOKUP($A27,'Valores Cuota Diarios'!$B:$Q,Gráficos!S$25,0)/VLOOKUP(43856,'Valores Cuota Diarios'!$B:$Q,Gráficos!S$25,0))-1 -> -1 | T34: =+(VLOOKUP($A27,'Valores Cuota Diarios'!$B:$Q,Gráficos!T$25,0)/VLOOKUP(43856,'Valores Cuota Diarios'!$B:$Q,Gráficos!T$25,0))-1 -> -1 | W34: Desde incepción | Y34: =+(VLOOKUP($A27,'Valores Cuota Diarios'!$B:$T,Gráficos!Y$25,0)/VLOOKUP(45950,'Valores Cuota Diarios'!$B:$T,Gráficos!Y$25,0))-1 -> 0.0075967525 | Z34: =+(VLOOKUP($A27,'Valores Cuota Diarios'!$B:$T,Gráficos!Z$25,0)/VLOOKUP(45797,'Valores Cuota Diarios'!$B:$T,Gráficos!Z$25,0))-1 -> 0.11347678 | AC34: Desde incepción | AD34: - | AE34: =+(VLOOKUP($A27,'Valores Cuota Diarios'!$B:$Q,Gráficos!AE$25,0)/VLOOKUP(43858,'Valores Cuota Diarios'!$B:$Q,Gráficos!AE$25,0))-1 -> -1 | AF34: =+(VLOOKUP($A27,'Valores Cuota Diarios'!$B:$Q,Gráficos!AF$25,0)/VLOOKUP(43856,'Valores Cuota Diarios'!$B:$Q,Gráficos!AF$25,0))-1 -> -1 | AG34: =+(VLOOKUP($A27,'Valores Cuota Diarios'!$B:$Q,Gráficos!AG$25,0)/VLOOKUP(43856,'Valores Cuota Diarios'!$B:$Q,Gráficos!AG$25,0))-1 -> -1 | AJ34: Desde incepción | AL34: - | AM34: =+(VLOOKUP($A27,'Valores Cuota Diarios'!$B:$Q,Gráficos!AM$25,0)/VLOOKUP(44781,'Valores Cuota Diarios'!$B:$Q,Gráficos!AM$25,0))-1 -> 0.14658879
A35: 43236
A36: 43249 | B36: ="Elaboración propia con información de valor cuota al cierre de "&TEXT(EOMONTH(TODAY(),-1),"mmmm")&" "&TEXT(EOMONTH(TODAY(),-1),"yyyy") -> Elaboración propia con información de valor cuota al cierre de Diciembre 2025
B37: Infórmese de las características esenciales de la inversión en los Fondos Mutuos administrados por Faro Capital SAF, las que se encuentran contenidas en el prospecto simplificado y reglamento de participación. La rentabilidad o ganancia obtenida en el pasado, no garantiza que se repita en el futuro. Estas rentabilidades no incluyen el efecto de las comisiones de suscripción y rescate, ni el impuesto a la renta. La rentabilidad que corresponde al primer año de etapa operativa de cada fondo está calculado en base a una rentabildiad acumulada. Asimismo, la rentabilidad de cada cierre de año es anualizada. (1) En lo que va del año, la serie A del fondo Faro Capital Flexible FMIV no ha tenido cuotas de participación. (2) La rentabilidad de la serie B del fondo Faro Capital Flexible FMIV refleja el rendimiento acumulado desde el 20/10/2025, fecha a partir de la cual dicha serie tiene cuotas. (3) La rentabilidad de la serie C del fondo Faro Capital Flexible FMIV refleja el rendimiento acumulado desde la fecha de incio de operaciones, el 21/05/2025. (4) En el año 2023 y 2025 hubo periodos de tiempo sin cuotas en la serie A del fondo Faro Capiral Corto Plazo Dólares FMIV.
P2669: 105.83184 | Q2669: 169.0558 | AC2669: 105.83184 | AD2669: 169.0558
P2670: 105.84601 | Q2670: 168.44878 | AC2670: 105.84601 | AD2670: 168.44878
P2671: 105.97568 | Q2671: 170.44772 | AC2671: 105.97568 | AD2671: 170.44772

Sheet Valores Cuota Diarios
C1: FARO CAPITAL DEUDA GLOBAL FMIV (Institucional) | F1: FARO CAPITAL RENTA VARIABLE GLOBAL FMIV (Institucional) | I1: FARO CAPITAL GLOBAL INNOVATION FMIV (Institucional) | L1: FARO CAPITAL CORTO PLAZO DÓLARES FMIV (Institucional) | O1: FONDO DE FONDOS FARO CAPITAL GLOBAL INNOVATION FMIV | P1: FONDO DE FONDOS FARO CAPITAL DEUDA GLOBAL FMIV | Q1: FONDO DE FONDOS FARO CAPITAL RENTA VARIABLE GLOBAL FMIV | S1: Faro Capital Flexible FMIV (Institucional)
B2: Fecha / Serie | C2: Serie A | D2: Serie B | E2: Serie C | F2: Serie A | G2: Serie B | H2: Serie C | I2: Serie A | J2: Serie B | K2: Serie C | L2: Serie B | M2: Serie C | O2: Valor Cuota | P2: Valor Cuota | Q2: Valor Cuota | S2: Serie B | T2: Serie C
B3: 43208 | C3: 0 | D3: 0 | E3: 100.00552 | F3: 0 | G3: 0 | H3: 100.00552 | I3: 0 | K3: 0 | L3: 0 | M3: 0 | O3: 0 | S3: 0 | T3: 0
B4: 43209 | C4: 0 | D4: 0 | E4: 100.00552 | F4: 0 | G4: 0 | H4: 100.00552 | I4: 0 | K4: 0 | L4: 0 | M4: 0 | O4: 0 | S4: 0 | T4: 0
B5: 43210 | C5: 0 | D5: 0 | E5: 100.00552 | F5: 0 | G5: 0 | H5: 100.00552 | I5: 0 | K5: 0 | L5: 0 | M5: 0 | O5: 0 | S5: 0 | T5: 0
B6: 43213 | C6: 0 | D6: 0 | E6: 100.01767 | F6: 0 | G6: 0 | H6: 100.01767 | I6: 0 | K6: 0 | L6: 0 | M6: 0 | O6: 0 | S6: 0 | T6: 0
B7: 43214 | C7: 0 | D7: 0 | E7: 100.01767 | F7: 0 | G7: 0 | H7: 100.01767 | I7: 0 | K7: 0 | L7: 0 | M7: 0 | O7: 0 | S7: 0 | T7: 0
B8: 43215 | C8: 0 | D8: 0 | E8: 100.01767 | F8: 0 | G8: 0 | H8: 100.01767 | I8: 0 | K8: 0 | L8: 0 | M8: 0 | O8: 0 | S8: 0 | T8: 0
B9: 43216 | C9: 0 | D9: 0 | E9: 100.0276 | F9: 0 | G9: 0 | H9: 100.0276 | I9: 0 | K9: 0 | L9: 0 | M9: 0 | O9: 0 | S9: 0 | T9: 0
B10: 43217 | C10: 0 | D10: 0 | E10: 100.0276 | F10: 0 | G10: 0 | H10: 100.0276 | I10: 0 | K10: 0 | L10: 0 | M10: 0 | O10: 0 | S10: 0 | T10: 0
B11: 43220 | C11: 0 | D11: 0 | E11: 100.0276 | F11: 0 | G11: 0 | H11: 100.0276 | I11: 0 | K11: 0 | L11: 0 | M11: 0 | O11: 0 | S11: 0 | T11: 0
B12: 43222 | C12: 0 | D12: 0 | E12: 100.0276 | F12: 0 | G12: 0 | H12: 100.0276 | I12: 0 | K12: 0 | L12: 0 | M12: 0 | O12: 0 | S12: 0 | T12: 0
B13: 43223 | C13: 0 | D13: 0 | E13: 100.0276 | F13: 0 | G13: 0 | H13: 100.0276 | I13: 0 | K13: 0 | L13: 0 | M13: 0 | O13: 0 | S13: 0 | T13: 0
B14: 43224 | C14: 0 | D14: 0 | E14: 100.0276 | F14: 0 | G14: 0 | H14: 100.0276 | I14: 0 | K14: 0 | L14: 0 | M14: 0 | O14: 0 | S14: 0 | T14: 0
... B583: 43857 | C583: 107.97254 | D583: 107.59814 | E583: 106.92632 | F583: 104.01052 | G583: 103.28863 | H583: 102.46592 | I583: 0 | K583: 100.01128 | L583: 0 | M583: 0 | O583: 99.99538 | S583: 0 | T583: 0
B584: 43858 | C584: 107.86573 | D584: 107.49135 | E584: 106.81985 | F584: 104.96965 | G584: 104.24042 | H584: 103.40878 | I584: 100 | J584: 100 | K584: 101.11006 | L584: 0 | M584: 0 | O584: 99.994725 | S584: 0 | T584: 0
B585: 43859 | C585: 108.03302 | D585: 107.65771 | E585: 106.98481 | F585: 105.06037 | G585: 104.32983 | H585: 103.49612 | I585: 100 | J585: 99.958813 | K585: 101.06775 | L585: 0 | M585: 0 | O585: 99.95303 | S585: 0 | T585: 0
B586: 43860 | C586: 107.97399 | D586: 107.59852 | E586: 106.92565 | F586: 104.93954 | G586: 104.20916 | H586: 103.37506 | I586: 100 | J586: 99.867461 | K586: 100.97473 | L586: 0 | M586: 0 | O586: 99.848446 | S586: 0 | T586: 0
B587: 43861 | C587: 108.06507 | D587: 107.68894 | E587: 107.01515 | F587: 103.23148 | G587: 102.51231 | H587: 101.69045 | I587: 100 | J587: 97.999796 | K587: 99.085703 | L587: 0 | M587: 0 | O587: 98.139303 | S587: 0 | T587: 0
B588: 43862 | C588: 108.0703 | D588: 107.69379 | E588: 107.01962 | F588: 103.22874 | G588: 102.50892 | H588: 101.68576 | I588: 100 | J588: 97.995479 | K588: 99.080689 | L588: 0 | M588: 0 | O588: 98.133948 | S588: 0 | T588: 0
B589: 43863 | C589: 108.07554 | D589: 107.69866 | E589: 107.02411 | F589: 103.22603 | G589: 102.50556 | H589: 101.68109 | I589: 100 | J589: 97.991624 | K589: 99.076142 | L589: 0 | M589: 0 | O589: 98.129825 | S589: 0 | T589: 0
B590: 43864 | C590: 108.10521 | D590: 107.72788 | E590: 107.0528 | F590: 103.93607 | G590: 103.20996 | H590: 102.37849 | I590: 100 | J590: 99.255024 | K590: 100.35287 | L590: 0 | M590: 0 | O590: 99.269023 | S590: 0 | T590: 0
B591: 43865 | C591: 108.10696 | D591: 107.72927 | E591: 107.05382 | F591: 105.78536 | G591: 105.04565 | H591: 104.19802 | I591: 100 | J591: 101.38117 | K591: 102.50186 | L591: 0 | M591: 0 | O591: 101.1879 | S591: 0 | T591: 0
B592: 43866 | C592: 108.16423 | D592: 107.78599 | E592: 107.10983 | F592: 106.76931 | G592: 106.02202 | H592: 105.16513 | I592: 100 | J592: 102.44465 | K592: 102.43794 | L592: 0 | M592: 0 | O592: 102.22514 | S592: 0 | T592: 0
B593: 43867 | C593: 108.27295 | D593: 107.89397 | E593: 107.21679 | F593: 107.12545 | G593: 106.37497 | H593: 105.51385 | I593: 100 | J593: 102.85 | K593: 102.84258 | L593: 0 | M593: 0 | O593: 102.58508 | S593: 0 | T593: 0
B594: 43868 | C594: 108.41776 | D594: 108.03792 | E594: 107.35948 | F594: 106.38913 | G594: 105.64311 | H594: 104.78654 | I594: 100 | J594: 102.20354 | K594: 102.1955 | L594: 0 | M594: 0 | O594: 102.04487 | S594: 0 | T594: 0
B595: 43869 | C595: 108.42302 | D595: 108.04281 | E595: 107.36399 | F595: 106.38634 | G595: 105.63965 | H595: 104.78173 | I595: 100 | J595: 102.19952 | K595: 102.19081 | L595: 0 | M595: 0 | O595: 102.0402 | S595: 0 | T595: 0
... B718: 43992 | C718: 103.51653 | D718: 103.11195 | E718: 102.4228 | F718: 102.10346 | G718: 101.30511 | H718: 100.32047 | I718: 100 | J718: 103.93581 | K718: 103.84319 | L718: 0 | M718: 0 | O718: 105.34946 | S718: 0 | T718: 0
B719: 43993 | C719: 102.92394 | D719: 102.52133 | E719: 101.83581 | F719: 96.535832 | G719: 95.780388 | H719: 94.848205 | I719: 100 | J719: 98.371305 | K719: 98.282993 | L719: 0 | M719: 0 | O719: 99.712935 | P719: 100 | Q719: 100 | S719: 0 | T719: 0
B720: 43994 | C720: 102.78311 | D720: 102.38072 | E720: 101.6958 | F720: 97.82957 | G720: 97.063365 | H720: 96.117436 | I720: 100 | J720: 99.385818 | K720: 99.295944 | L720: 0 | M720: 0 | O720: 100.72996 | P720: 99.862517 | Q720: 101.33818 | R720: 0.013381766 | S720: 0 | T720: 0
B721: 43995 | C721: 102.79032 | D721: 102.38757 | E721: 101.70227 | F721: 97.827005 | G721: 97.060184 | H721: 96.113025 | I721: 100 | J721: 99.381909 | K721: 99.291387 | L721: 0 | M721: 0 | O721: 100.72542 | P721: 99.868871 | Q721: 101.33352 | R721: -4.5982994e-05 | S721: 0 | T721: 0
B722: 43996 | C722: 102.79754 | D722: 102.39441 | E722: 101.70874 | F722: 97.82444 | G722: 97.057002 | H722: 96.108614 | I722: 100 | J722: 99.378 | K722: 99.286831 | L722: 0 | M722: 0 | O722: 100.72087 | P722: 99.875215 | Q722: 101.32887 | R722: -4.583045e-05 | S722: 0 | T722: 0
B723: 43997 | C723: 102.33679 | D723: 101.93514 | E723: 101.2522 | F723: 98.515659 | G723: 97.742159 | H723: 96.785807 | I723: 100 | J723: 101.17543 | K723: 101.08195 | L723: 0 | M723: 0 | O723: 102.50528 | P723: 99.426914 | Q723: 102.04288 | R723: 0.0070464066 | S723: 0 | T723: 0
B724: 43998 | C724: 102.75439 | D724: 102.35077 | E724: 101.66471 | F724: 100.20212 | G724: 99.414722 | H724: 98.440714 | I724: 100 | J724: 102.82111 | K724: 102.72543 | L724: 0 | M724: 0 | O724: 104.17068 | P724: 99.831995 | Q724: 103.34769 | R724: 0.012786873 | S724: 0 | T724: 0
B725: 43999 | C725: 102.73787 | D725: 102.33398 | E725: 101.64771 | F725: 100.29692 | G725: 99.508129 | H725: 98.531914 | I725: 100 | J725: 103.1969 | K725: 103.1002 | L725: 0 | M725: 0 | O725: 104.55044 | P725: 99.815291 | Q725: 103.44292 | R725: 0.00092147564 | S725: 0 | T725: 0
B726: 44000 | C726: 102.79822 | D726: 102.39375 | E726: 101.70675 | F726: 100.43473 | G726: 99.644199 | H726: 98.665356 | I726: 100 | J726: 103.62092 | K726: 103.52314 | L726: 0 | M726: 0 | O726: 104.97566 | P726: 99.873264 | Q726: 103.58302 | R726: 0.00135443 | S726: 0 | T726: 0
B727: 44001 | C727: 102.93898 | D727: 102.53362 | E727: 101.84534 | F727: 100.12602 | G727: 99.337271 | H727: 98.360153 | I727: 100 | J727: 103.44205 | K727: 103.34376 | L727: 0 | M727: 0 | O727: 104.8004 | P727: 100.00937 | Q727: 103.26258 | R727: -0.0030935872 | S727: 0 | T727: 0
B728: 44002 | C728: 102.94628 | D728: 102.54056 | E728: 101.8519 | F728: 100.1234 | G728: 99.334015 | H728: 98.355639 | I728: 100 | J728: 103.43798 | K728: 103.33902 | L728: 0 | M728: 0 | O728: 104.79559 | P728: 97.546876 | Q728: 103.25785 | R728: -4.5869501e-05 | S728: 0 | T728: 0
B729: 44003 | C729: 102.95359 | D729: 102.5475 | E729: 101.85846 | F729: 100.12077 | G729: 99.330759 | H729: 98.351126 | I729: 100 | J729: 103.43391 | K729: 103.33428 | L729: 0 | M729: 0 | O729: 104.79078 | P729: 100.02226 | Q729: 103.2531 | R729: -4.5962171e-05 | S729: 0 | T729: 0
B730: 44004 | C730: 103.13696 | D730: 102.72981 | E730: 102.03921 | F730: 101.01932 | G730: 100.22156 | H730: 99.23184 | I730: 100 | J730: 105.31983 | K730: 105.21769 | L730: 0 | M730: 0 | O730: 106.69972 | P730: 100.19976 | Q730: 104.17783 | R730: 0.0089559256 | S730: 0 | T730: 0
...

Sheet Var. CPD %
C5: Faro Capital Corto Plazo Dólares FMIV
C6: Valor Cuota | E6: Variación %
B7: Fecha | C7: Serie A | D7: Serie B | E7: Serie A | F7: Serie B
B8: 45609 | C8: 106.16419 | D8: 109.96885 | E8: - | F8: -
B9: 45610 | C9: 106.17546 | D9: 109.98034 | E9: =+C9/C8-1 -> 0.00010614793 | F9: =+D9/D8-1 -> 0.00010450885
B10: 45611 | C10: 106.18553 | D10: 109.99059 | E10: =+C10/C9-1 -> 9.4833588e-05 | F10: =+D10/D9-1 -> 9.3194525e-05
B11: 45612 | C11: 106.19705 | D11: 110.00234 | E11: =+C11/C10-1 -> 0.00010850812 | F11: =+D11/D10-1 -> 0.00010686904
B12: 45613 | C12: 106.20858 | D12: 110.0141 | E12: =+C12/C11-1 -> 0.00010852793 | F12: =+D12/D11-1 -> 0.00010688885
B13: 45614 | C13: 106.22102 | D13: 110.02681 | E13: =+C13/C12-1 -> 0.00011715779 | F13: =+D13/D12-1 -> 0.00011551869
